BEGIN:VCALENDAR
PRODID:-//Microsoft Corporation//Outlook 12.0 MIMEDIR//EN
VERSION:2.0
CALSCALE:GREGORIAN
BEGIN:VEVENT
UID: 8ef62403-caec-49d9-ad75-6b0b6b4616f8
SUMMARY:Nõidade pidu
DTSTAMP:20260430
DTSTART:20260430
DTEND:20260501
DURATION:P1D
LOCATION:
DESCRIPTION: <p>30.aprill on volbriöö, mil pühitakse tolm luudadelt ja tehakse kiired nõiaringid. <strong>Kogu koolipere on oodatud 30.aprill kell 18 nõidade lõkkeõhtule Laupa mõisa õuel.</strong></p><ul><li data-list-item-id="edd0b1a289f0911281321b4a6298f82fa">selga nõiakostüüm</li><li data-list-item-id="ec3cb3b34eb84e477801e4e1797fcbb42">kaasa luud</li><li data-list-item-id="e79a0e421b2c82a6015f39daac4a1d5f9">vahvad mängud ja ühised tantsud</li><li data-list-item-id="e3c767a73c91f2b587da333b093007fc6">auhinnad: parim kostüüm ja põnevaim luud</li><li data-list-item-id="e6c3caf7267fa6fecf822c54f1b4ec067">võta kaasa oma nõiasöök ja -jook, kohapeal võimalus ka grillida.&nbsp;</li></ul><p>&nbsp;</p><p><em>Õhtut juhib peanõid ja õpilasesindus.&nbsp;</em></p><p><strong>Link: </strong>https://www.laupapk.edu.ee/et/sundmuste-kalender/noidade-pidu</p><p><strong>Hind: </strong></p>
STATUS:CONFIRMED
SEQUENCE:3
X-ALT-DESC;FMTTYPE=text/html:<p>30.aprill on volbriöö, mil pühitakse tolm luudadelt ja tehakse kiired nõiaringid. <strong>Kogu koolipere on oodatud 30.aprill kell 18 nõidade lõkkeõhtule Laupa mõisa õuel.</strong></p><ul><li data-list-item-id="edd0b1a289f0911281321b4a6298f82fa">selga nõiakostüüm</li><li data-list-item-id="ec3cb3b34eb84e477801e4e1797fcbb42">kaasa luud</li><li data-list-item-id="e79a0e421b2c82a6015f39daac4a1d5f9">vahvad mängud ja ühised tantsud</li><li data-list-item-id="e3c767a73c91f2b587da333b093007fc6">auhinnad: parim kostüüm ja põnevaim luud</li><li data-list-item-id="e6c3caf7267fa6fecf822c54f1b4ec067">võta kaasa oma nõiasöök ja -jook, kohapeal võimalus ka grillida.&nbsp;</li></ul><p>&nbsp;</p><p><em>Õhtut juhib peanõid ja õpilasesindus.&nbsp;</em></p><p><strong>Link: </strong>https://www.laupapk.edu.ee/et/sundmuste-kalender/noidade-pidu</p><p><strong>Hind: </strong></p>
X-MICROSOFT-CDO-BUSYSTATUS:OOF
X-MICROSOFT-CDO-IMPORTANCE:1
X-MICROSOFT-DISALLOW-COUNTER:FALSE
X-MS-OLK-ALLOWEXTERNCHECK:TRUE
X-MS-OLK-CONFTYPE:0
X-MICROSOFT-CDO-ALLDAYEVENT:1
X-MICROSOFT-MSNCALENDAR-ALLDAYEVENT:1
END:VEVENT
END:VCALENDAR