BEGIN:VCALENDAR
PRODID:-//Microsoft Corporation//Outlook 12.0 MIMEDIR//EN
VERSION:2.0
CALSCALE:GREGORIAN
BEGIN:VEVENT
UID: b05a7899-bf64-468d-a7e7-93ec5a153cf8
SUMMARY:Laupa Jõu-Jüri
DTSTAMP:20260422
DTSTART:20260422
DTEND:20260423
DURATION:P1D
LOCATION:
DESCRIPTION: <p>22.aprillil on traditsiooniline võistlus ja jõukatsumine <strong>- Laupa Jõu-Jüri</strong></p><ul><li data-list-item-id="e1c490ebb8578b76eae716982974053ae">alates 5. tunnist võimlas</li><li data-list-item-id="eb817b32dc24593e6377d0a179dc8b4ed">6.-9.klassi noormehed</li><li data-list-item-id="e5ae7b8034a66024e07ba933a67038e74">võistlusalad: dünamomeetri surumine, ühiskava, raskuse hoidmine 5kg, raskustega istes, 20m piiksujooks, plank</li><li data-list-item-id="e88c0139890552a90cf3934b4de3d9d3e">auhinnad</li></ul><p>&nbsp;</p><p><strong>Link: </strong>https://www.laupapk.edu.ee/et/sundmuste-kalender/laupa-jou-juri</p><p><strong>Hind: </strong></p>
STATUS:CONFIRMED
SEQUENCE:3
X-ALT-DESC;FMTTYPE=text/html:<p>22.aprillil on traditsiooniline võistlus ja jõukatsumine <strong>- Laupa Jõu-Jüri</strong></p><ul><li data-list-item-id="e1c490ebb8578b76eae716982974053ae">alates 5. tunnist võimlas</li><li data-list-item-id="eb817b32dc24593e6377d0a179dc8b4ed">6.-9.klassi noormehed</li><li data-list-item-id="e5ae7b8034a66024e07ba933a67038e74">võistlusalad: dünamomeetri surumine, ühiskava, raskuse hoidmine 5kg, raskustega istes, 20m piiksujooks, plank</li><li data-list-item-id="e88c0139890552a90cf3934b4de3d9d3e">auhinnad</li></ul><p>&nbsp;</p><p><strong>Link: </strong>https://www.laupapk.edu.ee/et/sundmuste-kalender/laupa-jou-juri</p><p><strong>Hind: </strong></p>
X-MICROSOFT-CDO-BUSYSTATUS:OOF
X-MICROSOFT-CDO-IMPORTANCE:1
X-MICROSOFT-DISALLOW-COUNTER:FALSE
X-MS-OLK-ALLOWEXTERNCHECK:TRUE
X-MS-OLK-CONFTYPE:0
X-MICROSOFT-CDO-ALLDAYEVENT:1
X-MICROSOFT-MSNCALENDAR-ALLDAYEVENT:1
END:VEVENT
END:VCALENDAR