BEGIN:VCALENDAR
PRODID:-//Microsoft Corporation//Outlook 12.0 MIMEDIR//EN
VERSION:2.0
CALSCALE:GREGORIAN
BEGIN:VEVENT
UID: 932d8a10-063c-4482-a1f3-bb8299177729
SUMMARY:Matemaatika eksam (9.kl) + 1.-8.kl õppekäikudel
DTSTAMP:20260429
DTSTART:20260429
DTEND:20260430
DURATION:P1D
LOCATION:
DESCRIPTION: <p><strong>9.klassil kell 10-13.00 matemaatika lõpueksam.&nbsp;</strong></p><p>&nbsp;</p><p>1.-8.klass on õppekäikudel:</p><ul><li data-list-item-id="eba223a65438fb8608f0b4dd5e2d03a29">I kooliaste RMK Riisa raba “Raba ohud ja rohud”</li><li data-list-item-id="eaf370f5511ba1360f8e3aeb72f7265ce">5. ja 6.kl Mulgi Elamuskeskuses (rahvajooksu preemia)</li><li data-list-item-id="e1fb4702fd7a8af74385ca5a1413e0378">4.kl RMK Soomaa külastuskeskus “Elurikkus metsas”</li><li data-list-item-id="e5431c1ea2ceb136d7590cc88b364757b">7.-8.kl - PRIA õppekäik Tallinna Tervisemuuseum “Kuidas toita 10 miljardit inimest?” kell 12 + 7.kl kell 10 Nukumuuseumis ning 8.kl 14.30 Eesti Pank&nbsp;<br>&nbsp;</li></ul><p><strong>Link: </strong>https://www.laupapk.edu.ee/et/sundmuste-kalender/matemaatika-eksam-9kl-1-8kl-oppekaikudel</p><p><strong>Hind: </strong></p>
STATUS:CONFIRMED
SEQUENCE:3
X-ALT-DESC;FMTTYPE=text/html:<p><strong>9.klassil kell 10-13.00 matemaatika lõpueksam.&nbsp;</strong></p><p>&nbsp;</p><p>1.-8.klass on õppekäikudel:</p><ul><li data-list-item-id="eba223a65438fb8608f0b4dd5e2d03a29">I kooliaste RMK Riisa raba “Raba ohud ja rohud”</li><li data-list-item-id="eaf370f5511ba1360f8e3aeb72f7265ce">5. ja 6.kl Mulgi Elamuskeskuses (rahvajooksu preemia)</li><li data-list-item-id="e1fb4702fd7a8af74385ca5a1413e0378">4.kl RMK Soomaa külastuskeskus “Elurikkus metsas”</li><li data-list-item-id="e5431c1ea2ceb136d7590cc88b364757b">7.-8.kl - PRIA õppekäik Tallinna Tervisemuuseum “Kuidas toita 10 miljardit inimest?” kell 12 + 7.kl kell 10 Nukumuuseumis ning 8.kl 14.30 Eesti Pank&nbsp;<br>&nbsp;</li></ul><p><strong>Link: </strong>https://www.laupapk.edu.ee/et/sundmuste-kalender/matemaatika-eksam-9kl-1-8kl-oppekaikudel</p><p><strong>Hind: </strong></p>
X-MICROSOFT-CDO-BUSYSTATUS:OOF
X-MICROSOFT-CDO-IMPORTANCE:1
X-MICROSOFT-DISALLOW-COUNTER:FALSE
X-MS-OLK-ALLOWEXTERNCHECK:TRUE
X-MS-OLK-CONFTYPE:0
X-MICROSOFT-CDO-ALLDAYEVENT:1
X-MICROSOFT-MSNCALENDAR-ALLDAYEVENT:1
END:VEVENT
END:VCALENDAR